BEGIN:VCALENDAR
VERSION:2.0
PRODID:-//Soccer for Women Ages 18 to 80+ - ECPv6.15.20//NONSGML v1.0//EN
CALSCALE:GREGORIAN
METHOD:PUBLISH
X-WR-CALNAME:Soccer for Women Ages 18 to 80+
X-ORIGINAL-URL:https://sandiegosoccerwomen.com
X-WR-CALDESC:Events for Soccer for Women Ages 18 to 80+
REFRESH-INTERVAL;VALUE=DURATION:PT1H
X-Robots-Tag:noindex
X-PUBLISHED-TTL:PT1H
BEGIN:VTIMEZONE
TZID:America/Los_Angeles
BEGIN:DAYLIGHT
TZOFFSETFROM:-0800
TZOFFSETTO:-0700
TZNAME:PDT
DTSTART:20210314T100000
END:DAYLIGHT
BEGIN:STANDARD
TZOFFSETFROM:-0700
TZOFFSETTO:-0800
TZNAME:PST
DTSTART:20211107T090000
END:STANDARD
BEGIN:DAYLIGHT
TZOFFSETFROM:-0800
TZOFFSETTO:-0700
TZNAME:PDT
DTSTART:20220313T100000
END:DAYLIGHT
BEGIN:STANDARD
TZOFFSETFROM:-0700
TZOFFSETTO:-0800
TZNAME:PST
DTSTART:20221106T090000
END:STANDARD
BEGIN:DAYLIGHT
TZOFFSETFROM:-0800
TZOFFSETTO:-0700
TZNAME:PDT
DTSTART:20230312T100000
END:DAYLIGHT
BEGIN:STANDARD
TZOFFSETFROM:-0700
TZOFFSETTO:-0800
TZNAME:PST
DTSTART:20231105T090000
END:STANDARD
BEGIN:DAYLIGHT
TZOFFSETFROM:-0800
TZOFFSETTO:-0700
TZNAME:PDT
DTSTART:20240310T100000
END:DAYLIGHT
BEGIN:STANDARD
TZOFFSETFROM:-0700
TZOFFSETTO:-0800
TZNAME:PST
DTSTART:20241103T090000
END:STANDARD
BEGIN:DAYLIGHT
TZOFFSETFROM:-0800
TZOFFSETTO:-0700
TZNAME:PDT
DTSTART:20250309T100000
END:DAYLIGHT
BEGIN:STANDARD
TZOFFSETFROM:-0700
TZOFFSETTO:-0800
TZNAME:PST
DTSTART:20251102T090000
END:STANDARD
BEGIN:DAYLIGHT
TZOFFSETFROM:-0800
TZOFFSETTO:-0700
TZNAME:PDT
DTSTART:20260308T100000
END:DAYLIGHT
BEGIN:STANDARD
TZOFFSETFROM:-0700
TZOFFSETTO:-0800
TZNAME:PST
DTSTART:20261101T090000
END:STANDARD
END:VTIMEZONE
BEGIN:VEVENT
DTSTART;TZID=America/Los_Angeles:20250426T000000
DTEND;TZID=America/Los_Angeles:20250427T000000
DTSTAMP:20260424T064446
CREATED:20250130T005536Z
LAST-MODIFIED:20250620T200516Z
UID:10000483-1745625600-1745712000@sandiegosoccerwomen.com
SUMMARY:San Antonio Fiesta 47th Annual Tournament 11v11 2025
DESCRIPTION:
URL:https://sandiegosoccerwomen.com/tournament/san-antonio-fiesta-47th-annual-tournament-11v11-2025/
LOCATION:San Antonio\, TX
END:VEVENT
BEGIN:VEVENT
DTSTART;TZID=America/Los_Angeles:20240420T000000
DTEND;TZID=America/Los_Angeles:20240421T000000
DTSTAMP:20260424T064446
CREATED:20250130T005534Z
LAST-MODIFIED:20250620T200450Z
UID:10000482-1713571200-1713657600@sandiegosoccerwomen.com
SUMMARY:San Antonio Fiesta 46th Annual Tournament 11v11 2024
DESCRIPTION:
URL:https://sandiegosoccerwomen.com/tournament/san-antonio-fiesta-46th-annual-tournament-11v11-2024/
LOCATION:San Antonio\, TX
END:VEVENT
BEGIN:VEVENT
DTSTART;TZID=America/Los_Angeles:20230422T000000
DTEND;TZID=America/Los_Angeles:20230423T000000
DTSTAMP:20260424T064446
CREATED:20250130T005438Z
LAST-MODIFIED:20250620T200454Z
UID:10000403-1682121600-1682208000@sandiegosoccerwomen.com
SUMMARY:San Antonio Fiesta 45th Annual Tournament 2023
DESCRIPTION:
URL:https://sandiegosoccerwomen.com/tournament/san-antonio-fiesta-45th-annual-tournament-2023-2/
LOCATION:San Antonio\, TX
CATEGORIES:Tournament
END:VEVENT
BEGIN:VEVENT
DTSTART;TZID=America/Los_Angeles:20230401T000000
DTEND;TZID=America/Los_Angeles:20230401T235959
DTSTAMP:20260424T064446
CREATED:20230219T033331Z
LAST-MODIFIED:20230219T033334Z
UID:10000007-1680307200-1680393599@sandiegosoccerwomen.com
SUMMARY:San Antonio Fiesta 45th Annual Tournament 2023
DESCRIPTION:
URL:https://sandiegosoccerwomen.com/tournament/san-antonio-fiesta-45th-annual-tournament-2023/
LOCATION:San Antonio\, TX
CATEGORIES:Tournaments
END:VEVENT
BEGIN:VEVENT
DTSTART;TZID=America/Los_Angeles:20220422T000000
DTEND;TZID=America/Los_Angeles:20220423T000000
DTSTAMP:20260424T064446
CREATED:20250130T005324Z
LAST-MODIFIED:20250620T200451Z
UID:10000334-1650585600-1650672000@sandiegosoccerwomen.com
SUMMARY:San Antonio Fiesta 44th Annual Tournament 2022
DESCRIPTION:
URL:https://sandiegosoccerwomen.com/tournament/san-antonio-fiesta-44th-annual-tournament-2022/
LOCATION:San Antonio\, TX
END:VEVENT
END:VCALENDAR