BEGIN:VCALENDAR
VERSION:2.0
PRODID:-//Soccer for Women Ages 18 to 80+ - ECPv6.15.16//NONSGML v1.0//EN
CALSCALE:GREGORIAN
METHOD:PUBLISH
X-ORIGINAL-URL:https://sandiegosoccerwomen.com
X-WR-CALDESC:Events for Soccer for Women Ages 18 to 80+
REFRESH-INTERVAL;VALUE=DURATION:PT1H
X-Robots-Tag:noindex
X-PUBLISHED-TTL:PT1H
BEGIN:VTIMEZONE
TZID:America/Los_Angeles
BEGIN:DAYLIGHT
TZOFFSETFROM:-0800
TZOFFSETTO:-0700
TZNAME:PDT
DTSTART:20210314T100000
END:DAYLIGHT
BEGIN:STANDARD
TZOFFSETFROM:-0700
TZOFFSETTO:-0800
TZNAME:PST
DTSTART:20211107T090000
END:STANDARD
BEGIN:DAYLIGHT
TZOFFSETFROM:-0800
TZOFFSETTO:-0700
TZNAME:PDT
DTSTART:20220313T100000
END:DAYLIGHT
BEGIN:STANDARD
TZOFFSETFROM:-0700
TZOFFSETTO:-0800
TZNAME:PST
DTSTART:20221106T090000
END:STANDARD
BEGIN:DAYLIGHT
TZOFFSETFROM:-0800
TZOFFSETTO:-0700
TZNAME:PDT
DTSTART:20230312T100000
END:DAYLIGHT
BEGIN:STANDARD
TZOFFSETFROM:-0700
TZOFFSETTO:-0800
TZNAME:PST
DTSTART:20231105T090000
END:STANDARD
BEGIN:DAYLIGHT
TZOFFSETFROM:-0800
TZOFFSETTO:-0700
TZNAME:PDT
DTSTART:20240310T100000
END:DAYLIGHT
BEGIN:STANDARD
TZOFFSETFROM:-0700
TZOFFSETTO:-0800
TZNAME:PST
DTSTART:20241103T090000
END:STANDARD
BEGIN:DAYLIGHT
TZOFFSETFROM:-0800
TZOFFSETTO:-0700
TZNAME:PDT
DTSTART:20250309T100000
END:DAYLIGHT
BEGIN:STANDARD
TZOFFSETFROM:-0700
TZOFFSETTO:-0800
TZNAME:PST
DTSTART:20251102T090000
END:STANDARD
END:VTIMEZONE
BEGIN:VEVENT
DTSTART;TZID=America/Los_Angeles:20241123T000000
DTEND;TZID=America/Los_Angeles:20241124T000000
DTSTAMP:20260221T053122
CREATED:20231228T072308Z
LAST-MODIFIED:20231228T072308Z
UID:10000249-1732320000-1732406400@sandiegosoccerwomen.com
SUMMARY:SVWSL Annual Indoor 6v6
DESCRIPTION:SVWSL Annual Indoor 6v6 2024
URL:https://sandiegosoccerwomen.com/tournament/svwsl-annual-indoor-6v6-2/
LOCATION:Sacramento\, Sacramento\, California\, United States
END:VEVENT
BEGIN:VEVENT
DTSTART;TZID=America/Los_Angeles:20241001T000000
DTEND;TZID=America/Los_Angeles:20241001T000000
DTSTAMP:20260221T053122
CREATED:20231228T072311Z
LAST-MODIFIED:20231228T072311Z
UID:10000253-1727740800-1727740800@sandiegosoccerwomen.com
SUMMARY:SALLY Games
DESCRIPTION:SALLY Games 2024
URL:https://sandiegosoccerwomen.com/tournament/sally-games-2/
LOCATION:Sacramento\, Sacramento\, California\, United States
END:VEVENT
BEGIN:VEVENT
DTSTART;TZID=America/Los_Angeles:20240518T000000
DTEND;TZID=America/Los_Angeles:20240519T000000
DTSTAMP:20260221T053122
CREATED:20231228T072254Z
LAST-MODIFIED:20231228T072254Z
UID:10000235-1715990400-1716076800@sandiegosoccerwomen.com
SUMMARY:SVWSL Valley Cup 11v11
DESCRIPTION:SVWSL Valley Cup 11v11 2024
URL:https://sandiegosoccerwomen.com/tournament/svwsl-valley-cup-11v11/
LOCATION:Sacramento\, Sacramento\, California\, United States
END:VEVENT
BEGIN:VEVENT
DTSTART;TZID=America/Los_Angeles:20240518T000000
DTEND;TZID=America/Los_Angeles:20240519T000000
DTSTAMP:20260221T053122
CREATED:20231228T072117Z
LAST-MODIFIED:20231228T072117Z
UID:10000151-1715990400-1716076800@sandiegosoccerwomen.com
SUMMARY:SVWSL Valley Cup 8v8
DESCRIPTION:SVWSL Valley Cup 8v8 2024
URL:https://sandiegosoccerwomen.com/tournament/svwsl-valley-cup-8v8/
LOCATION:Sacramento\, Sacramento\, California\, United States
END:VEVENT
BEGIN:VEVENT
DTSTART;TZID=America/Los_Angeles:20240420T000000
DTEND;TZID=America/Los_Angeles:20240421T000000
DTSTAMP:20260221T053122
CREATED:20231228T071811Z
LAST-MODIFIED:20231228T071811Z
UID:10000116-1713571200-1713657600@sandiegosoccerwomen.com
SUMMARY:Sacramento Sports for Life 11v11 (*undergoing changes for
DESCRIPTION:Sacramento Sports for Life 11v11 (*undergoing changes for 2024)
URL:https://sandiegosoccerwomen.com/tournament/sacramento-sports-for-life-11v11-undergoing-changes-for/
LOCATION:Sacramento\, Sacramento\, California\, United States
CATEGORIES:04 (Apr),11v11,50+,55+,Tournament
END:VEVENT
BEGIN:VEVENT
DTSTART;TZID=America/Los_Angeles:20231125T000000
DTEND;TZID=America/Los_Angeles:20231126T000000
DTSTAMP:20260221T053122
CREATED:20231228T072308Z
LAST-MODIFIED:20231228T072308Z
UID:10000248-1700870400-1700956800@sandiegosoccerwomen.com
SUMMARY:SVWSL Annual Indoor 6v6
DESCRIPTION:SVWSL Annual Indoor 6v6 2023
URL:https://sandiegosoccerwomen.com/tournament/svwsl-annual-indoor-6v6/
LOCATION:Sacramento\, Sacramento\, California\, United States
END:VEVENT
BEGIN:VEVENT
DTSTART;TZID=America/Los_Angeles:20231001T000000
DTEND;TZID=America/Los_Angeles:20231001T000000
DTSTAMP:20260221T053122
CREATED:20231228T072311Z
LAST-MODIFIED:20231228T072311Z
UID:10000252-1696118400-1696118400@sandiegosoccerwomen.com
SUMMARY:SALLY Games
DESCRIPTION:SALLY Games 2023
URL:https://sandiegosoccerwomen.com/tournament/sally-games/
LOCATION:Sacramento\, Sacramento\, California\, United States
END:VEVENT
BEGIN:VEVENT
DTSTART;TZID=America/Los_Angeles:20230521T000000
DTEND;TZID=America/Los_Angeles:20230522T000000
DTSTAMP:20260221T053122
CREATED:20231228T072118Z
LAST-MODIFIED:20231228T072118Z
UID:10000152-1684627200-1684713600@sandiegosoccerwomen.com
SUMMARY:Valley Cup SVWSL
DESCRIPTION:Valley Cup SVWSL 2023 8v8
URL:https://sandiegosoccerwomen.com/tournament/valley-cup-svwsl/
LOCATION:Sacramento\, Sacramento\, California\, United States
END:VEVENT
BEGIN:VEVENT
DTSTART;TZID=America/Los_Angeles:20230422T000000
DTEND;TZID=America/Los_Angeles:20230423T000000
DTSTAMP:20260221T053122
CREATED:20231228T071811Z
LAST-MODIFIED:20231228T071811Z
UID:10000118-1682121600-1682208000@sandiegosoccerwomen.com
SUMMARY:Sacramento Sports for Life
DESCRIPTION:Sacramento Sports for Life 2023 11v11
URL:https://sandiegosoccerwomen.com/tournament/sacramento-sports-for-life-2/
LOCATION:Sacramento\, Sacramento\, California\, United States
CATEGORIES:04 (Apr),11v11,50+,55+,Tournament
END:VEVENT
BEGIN:VEVENT
DTSTART;TZID=America/Los_Angeles:20221126T000000
DTEND;TZID=America/Los_Angeles:20221126T000000
DTSTAMP:20260221T053122
CREATED:20231228T072308Z
LAST-MODIFIED:20231228T072308Z
UID:10000247-1669420800-1669420800@sandiegosoccerwomen.com
SUMMARY:SVWSL Annual Indoor
DESCRIPTION:SVWSL Annual Indoor 2022
URL:https://sandiegosoccerwomen.com/tournament/svwsl-annual-indoor/
LOCATION:Sacramento\, Sacramento\, California\, United States
END:VEVENT
BEGIN:VEVENT
DTSTART;TZID=America/Los_Angeles:20220521T000000
DTEND;TZID=America/Los_Angeles:20220522T000000
DTSTAMP:20260221T053122
CREATED:20231228T072122Z
LAST-MODIFIED:20231228T072122Z
UID:10000156-1653091200-1653177600@sandiegosoccerwomen.com
SUMMARY:Valley Cup SVWSL
DESCRIPTION:Valley Cup SVWSL 2022 8v8
URL:https://sandiegosoccerwomen.com/tournament/valley-cup-svwsl-2/
LOCATION:Sacramento\, Sacramento\, California\, United States
END:VEVENT
BEGIN:VEVENT
DTSTART;TZID=America/Los_Angeles:20220423T000000
DTEND;TZID=America/Los_Angeles:20220424T000000
DTSTAMP:20260221T053122
CREATED:20231228T071811Z
LAST-MODIFIED:20231228T071811Z
UID:10000117-1650672000-1650758400@sandiegosoccerwomen.com
SUMMARY:Sacramento Sports for Life
DESCRIPTION:Sacramento Sports for Life 2022 11v11
URL:https://sandiegosoccerwomen.com/tournament/sacramento-sports-for-life/
LOCATION:Sacramento\, Sacramento\, California\, United States
CATEGORIES:04 (Apr),11v11,50+,55+,Tournament
END:VEVENT
END:VCALENDAR