BEGIN:VCALENDAR
VERSION:2.0
PRODID:-//Soccer for Women Ages 18 to 80+ - ECPv6.15.20//NONSGML v1.0//EN
CALSCALE:GREGORIAN
METHOD:PUBLISH
X-WR-CALNAME:Soccer for Women Ages 18 to 80+
X-ORIGINAL-URL:https://sandiegosoccerwomen.com
X-WR-CALDESC:Events for Soccer for Women Ages 18 to 80+
REFRESH-INTERVAL;VALUE=DURATION:PT1H
X-Robots-Tag:noindex
X-PUBLISHED-TTL:PT1H
BEGIN:VTIMEZONE
TZID:America/Los_Angeles
BEGIN:DAYLIGHT
TZOFFSETFROM:-0800
TZOFFSETTO:-0700
TZNAME:PDT
DTSTART:20210314T100000
END:DAYLIGHT
BEGIN:STANDARD
TZOFFSETFROM:-0700
TZOFFSETTO:-0800
TZNAME:PST
DTSTART:20211107T090000
END:STANDARD
BEGIN:DAYLIGHT
TZOFFSETFROM:-0800
TZOFFSETTO:-0700
TZNAME:PDT
DTSTART:20220313T100000
END:DAYLIGHT
BEGIN:STANDARD
TZOFFSETFROM:-0700
TZOFFSETTO:-0800
TZNAME:PST
DTSTART:20221106T090000
END:STANDARD
BEGIN:DAYLIGHT
TZOFFSETFROM:-0800
TZOFFSETTO:-0700
TZNAME:PDT
DTSTART:20230312T100000
END:DAYLIGHT
BEGIN:STANDARD
TZOFFSETFROM:-0700
TZOFFSETTO:-0800
TZNAME:PST
DTSTART:20231105T090000
END:STANDARD
BEGIN:DAYLIGHT
TZOFFSETFROM:-0800
TZOFFSETTO:-0700
TZNAME:PDT
DTSTART:20240310T100000
END:DAYLIGHT
BEGIN:STANDARD
TZOFFSETFROM:-0700
TZOFFSETTO:-0800
TZNAME:PST
DTSTART:20241103T090000
END:STANDARD
BEGIN:DAYLIGHT
TZOFFSETFROM:-0800
TZOFFSETTO:-0700
TZNAME:PDT
DTSTART:20250309T100000
END:DAYLIGHT
BEGIN:STANDARD
TZOFFSETFROM:-0700
TZOFFSETTO:-0800
TZNAME:PST
DTSTART:20251102T090000
END:STANDARD
BEGIN:DAYLIGHT
TZOFFSETFROM:-0800
TZOFFSETTO:-0700
TZNAME:PDT
DTSTART:20260308T100000
END:DAYLIGHT
BEGIN:STANDARD
TZOFFSETFROM:-0700
TZOFFSETTO:-0800
TZNAME:PST
DTSTART:20261101T090000
END:STANDARD
END:VTIMEZONE
BEGIN:VEVENT
DTSTART;TZID=America/Los_Angeles:20250517T000000
DTEND;TZID=America/Los_Angeles:20250518T000000
DTSTAMP:20260423T145429
CREATED:20250130T005546Z
LAST-MODIFIED:20250620T200539Z
UID:10000497-1747440000-1747526400@sandiegosoccerwomen.com
SUMMARY:SVWSL Valley Cup 11v11 2025
DESCRIPTION:
URL:https://sandiegosoccerwomen.com/tournament/svwsl-valley-cup-11v11-2025/
LOCATION:Sacramento\, CA
CATEGORIES:Tournament
END:VEVENT
BEGIN:VEVENT
DTSTART;TZID=America/Los_Angeles:20250517T000000
DTEND;TZID=America/Los_Angeles:20250518T000000
DTSTAMP:20260423T145429
CREATED:20250130T005545Z
LAST-MODIFIED:20250620T200539Z
UID:10000496-1747440000-1747526400@sandiegosoccerwomen.com
SUMMARY:SVWSL Valley Cup 8v8 2025
DESCRIPTION:
URL:https://sandiegosoccerwomen.com/tournament/svwsl-valley-cup-8v8-2025/
LOCATION:Sacramento\, CA
CATEGORIES:Tournament
END:VEVENT
BEGIN:VEVENT
DTSTART;TZID=America/Los_Angeles:20250412T000000
DTEND;TZID=America/Los_Angeles:20250413T000000
DTSTAMP:20260423T145429
CREATED:20250130T005534Z
LAST-MODIFIED:20250620T200432Z
UID:10000481-1744416000-1744502400@sandiegosoccerwomen.com
SUMMARY:Sacramento Sports for Life 8v8 2025
DESCRIPTION:
URL:https://sandiegosoccerwomen.com/tournament/sacramento-sports-for-life-8v8-2025/
LOCATION:Sacramento\, CA
END:VEVENT
BEGIN:VEVENT
DTSTART;TZID=America/Los_Angeles:20250412T000000
DTEND;TZID=America/Los_Angeles:20250413T000000
DTSTAMP:20260423T145429
CREATED:20250130T005533Z
LAST-MODIFIED:20250620T200432Z
UID:10000479-1744416000-1744502400@sandiegosoccerwomen.com
SUMMARY:Sacramento Sports for Life 11v11 2025
DESCRIPTION:
URL:https://sandiegosoccerwomen.com/tournament/sacramento-sports-for-life-11v11-2025/
LOCATION:Sacramento\, CA
END:VEVENT
BEGIN:VEVENT
DTSTART;TZID=America/Los_Angeles:20241123T000000
DTEND;TZID=America/Los_Angeles:20241124T000000
DTSTAMP:20260423T145429
CREATED:20250130T005728Z
LAST-MODIFIED:20250620T201206Z
UID:10000616-1732320000-1732406400@sandiegosoccerwomen.com
SUMMARY:SVWSL Annual Indoor 6v6 2024
DESCRIPTION:
URL:https://sandiegosoccerwomen.com/tournament/svwsl-annual-indoor-6v6-2024/
LOCATION:Sacramento\, CA
END:VEVENT
BEGIN:VEVENT
DTSTART;TZID=America/Los_Angeles:20240930T000000
DTEND;TZID=America/Los_Angeles:20240930T000000
DTSTAMP:20260423T145429
CREATED:20250130T005711Z
LAST-MODIFIED:20250620T201048Z
UID:10000596-1727654400-1727654400@sandiegosoccerwomen.com
SUMMARY:SALLY Games 2024
DESCRIPTION:
URL:https://sandiegosoccerwomen.com/tournament/sally-games-2024/
LOCATION:Sacramento\, CA
END:VEVENT
BEGIN:VEVENT
DTSTART;TZID=America/Los_Angeles:20240518T000000
DTEND;TZID=America/Los_Angeles:20240519T000000
DTSTAMP:20260423T145429
CREATED:20250130T005550Z
LAST-MODIFIED:20250620T200554Z
UID:10000498-1715990400-1716076800@sandiegosoccerwomen.com
SUMMARY:SVWSL Valley Cup 11v11 2024
DESCRIPTION:
URL:https://sandiegosoccerwomen.com/tournament/svwsl-valley-cup-11v11-2024/
LOCATION:Sacramento\, CA
CATEGORIES:Tournament
END:VEVENT
BEGIN:VEVENT
DTSTART;TZID=America/Los_Angeles:20240518T000000
DTEND;TZID=America/Los_Angeles:20240519T000000
DTSTAMP:20260423T145429
CREATED:20250130T005545Z
LAST-MODIFIED:20250620T200553Z
UID:10000495-1715990400-1716076800@sandiegosoccerwomen.com
SUMMARY:SVWSL Valley Cup 8v8 2024
DESCRIPTION:
URL:https://sandiegosoccerwomen.com/tournament/svwsl-valley-cup-8v8-2024/
LOCATION:Sacramento\, CA
CATEGORIES:Tournament
END:VEVENT
BEGIN:VEVENT
DTSTART;TZID=America/Los_Angeles:20240420T000000
DTEND;TZID=America/Los_Angeles:20240421T000000
DTSTAMP:20260423T145429
CREATED:20250130T005533Z
LAST-MODIFIED:20250620T200439Z
UID:10000478-1713571200-1713657600@sandiegosoccerwomen.com
SUMMARY:Sacramento Sports for Life 11v11 2024
DESCRIPTION:
URL:https://sandiegosoccerwomen.com/tournament/sacramento-sports-for-life-11v11-2024/
LOCATION:Sacramento\, CA
CATEGORIES:Tournament
END:VEVENT
BEGIN:VEVENT
DTSTART;TZID=America/Los_Angeles:20240420T000000
DTEND;TZID=America/Los_Angeles:20240421T000000
DTSTAMP:20260423T145429
CREATED:20250130T005533Z
LAST-MODIFIED:20250620T200450Z
UID:10000480-1713571200-1713657600@sandiegosoccerwomen.com
SUMMARY:Sacramento Sports for Life 8v8 2024
DESCRIPTION:
URL:https://sandiegosoccerwomen.com/tournament/sacramento-sports-for-life-8v8-2024/
LOCATION:Sacramento\, CA
END:VEVENT
BEGIN:VEVENT
DTSTART;TZID=America/Los_Angeles:20231125T000000
DTEND;TZID=America/Los_Angeles:20231126T000000
DTSTAMP:20260423T145429
CREATED:20250130T005632Z
LAST-MODIFIED:20250620T201209Z
UID:10000550-1700870400-1700956800@sandiegosoccerwomen.com
SUMMARY:SVWSL Annual Indoor 6v6 2023
DESCRIPTION:
URL:https://sandiegosoccerwomen.com/tournament/svwsl-annual-indoor-6v6-2023/
LOCATION:Sacramento\, CA
END:VEVENT
BEGIN:VEVENT
DTSTART;TZID=America/Los_Angeles:20231101T000000
DTEND;TZID=America/Los_Angeles:20231101T235959
DTSTAMP:20260423T145429
CREATED:20230219T033515Z
LAST-MODIFIED:20230219T033605Z
UID:10000082-1698796800-1698883199@sandiegosoccerwomen.com
SUMMARY:SVWSL Annual Indoor 2023
DESCRIPTION:
URL:https://sandiegosoccerwomen.com/tournament/svwsl-annual-indoor-2023/
LOCATION:Sacramento\, CA
CATEGORIES:Tournaments
END:VEVENT
BEGIN:VEVENT
DTSTART;TZID=America/Los_Angeles:20231001T000000
DTEND;TZID=America/Los_Angeles:20231001T235959
DTSTAMP:20260423T145429
CREATED:20230219T033507Z
LAST-MODIFIED:20230219T033601Z
UID:10000076-1696118400-1696204799@sandiegosoccerwomen.com
SUMMARY:SALLY Games 2023
DESCRIPTION:
URL:https://sandiegosoccerwomen.com/tournament/sally-games-2023/
LOCATION:Sacramento\, CA
CATEGORIES:Tournaments
END:VEVENT
BEGIN:VEVENT
DTSTART;TZID=America/Los_Angeles:20230930T000000
DTEND;TZID=America/Los_Angeles:20230930T000000
DTSTAMP:20260423T145429
CREATED:20250130T005711Z
LAST-MODIFIED:20250620T201048Z
UID:10000595-1696032000-1696032000@sandiegosoccerwomen.com
SUMMARY:SALLY Games 2023
DESCRIPTION:
URL:https://sandiegosoccerwomen.com/tournament/sally-games-2023-2/
LOCATION:Sacramento\, CA
END:VEVENT
BEGIN:VEVENT
DTSTART;TZID=America/Los_Angeles:20230521T000000
DTEND;TZID=America/Los_Angeles:20230522T000000
DTSTAMP:20260423T145429
CREATED:20250130T005453Z
LAST-MODIFIED:20250620T200609Z
UID:10000419-1684627200-1684713600@sandiegosoccerwomen.com
SUMMARY:Valley Cup SVWSL 2023 8v8
DESCRIPTION:
URL:https://sandiegosoccerwomen.com/tournament/valley-cup-svwsl-2023-8v8-2/
LOCATION:Sacramento\, CA
CATEGORIES:Tournament
END:VEVENT
BEGIN:VEVENT
DTSTART;TZID=America/Los_Angeles:20230521T000000
DTEND;TZID=America/Los_Angeles:20230522T000000
DTSTAMP:20260423T145429
CREATED:20250130T005453Z
LAST-MODIFIED:20250620T200609Z
UID:10000420-1684627200-1684713600@sandiegosoccerwomen.com
SUMMARY:Valley Cup SVWSL 2023 11v11
DESCRIPTION:
URL:https://sandiegosoccerwomen.com/tournament/valley-cup-svwsl-2023-11v11-2/
LOCATION:Sacramento\, CA
CATEGORIES:Tournament
END:VEVENT
BEGIN:VEVENT
DTSTART;TZID=America/Los_Angeles:20230501T000000
DTEND;TZID=America/Los_Angeles:20230501T235959
DTSTAMP:20260423T145429
CREATED:20230219T033349Z
LAST-MODIFIED:20230219T033400Z
UID:10000017-1682899200-1682985599@sandiegosoccerwomen.com
SUMMARY:Valley Cup SVWSL 2023 8v8
DESCRIPTION:
URL:https://sandiegosoccerwomen.com/tournament/valley-cup-svwsl-2023-8v8/
LOCATION:Sacramento\, CA
CATEGORIES:Tournaments
END:VEVENT
BEGIN:VEVENT
DTSTART;TZID=America/Los_Angeles:20230501T000000
DTEND;TZID=America/Los_Angeles:20230501T235959
DTSTAMP:20260423T145429
CREATED:20230219T033345Z
LAST-MODIFIED:20230219T033400Z
UID:10000016-1682899200-1682985599@sandiegosoccerwomen.com
SUMMARY:Valley Cup SVWSL 2023 11v11
DESCRIPTION:
URL:https://sandiegosoccerwomen.com/tournament/valley-cup-svwsl-2023-11v11/
LOCATION:Sacramento\, CA
CATEGORIES:Tournaments
END:VEVENT
BEGIN:VEVENT
DTSTART;TZID=America/Los_Angeles:20230422T000000
DTEND;TZID=America/Los_Angeles:20230423T000000
DTSTAMP:20260423T145429
CREATED:20250130T005439Z
LAST-MODIFIED:20250620T200454Z
UID:10000404-1682121600-1682208000@sandiegosoccerwomen.com
SUMMARY:Sacramento Sports for Life 2023 11v11
DESCRIPTION:
URL:https://sandiegosoccerwomen.com/tournament/sacramento-sports-for-life-2023-11v11-2/
LOCATION:Sacramento\, CA
CATEGORIES:Tournament
END:VEVENT
BEGIN:VEVENT
DTSTART;TZID=America/Los_Angeles:20230422T000000
DTEND;TZID=America/Los_Angeles:20230423T000000
DTSTAMP:20260423T145429
CREATED:20250130T005435Z
LAST-MODIFIED:20250620T200453Z
UID:10000402-1682121600-1682208000@sandiegosoccerwomen.com
SUMMARY:Sacramento Sports for Life 2023 8v8
DESCRIPTION:
URL:https://sandiegosoccerwomen.com/tournament/sacramento-sports-for-life-2023-8v8-2/
LOCATION:Sacramento\, CA
CATEGORIES:Tournament
END:VEVENT
BEGIN:VEVENT
DTSTART;TZID=America/Los_Angeles:20230401T000000
DTEND;TZID=America/Los_Angeles:20230401T235959
DTSTAMP:20260423T145429
CREATED:20230219T033333Z
LAST-MODIFIED:20230219T033335Z
UID:10000009-1680307200-1680393599@sandiegosoccerwomen.com
SUMMARY:Sacramento Sports for Life 2023 11v11
DESCRIPTION:
URL:https://sandiegosoccerwomen.com/tournament/sacramento-sports-for-life-2023-11v11/
LOCATION:Sacramento\, CA
CATEGORIES:Tournaments
END:VEVENT
BEGIN:VEVENT
DTSTART;TZID=America/Los_Angeles:20230401T000000
DTEND;TZID=America/Los_Angeles:20230401T235959
DTSTAMP:20260423T145429
CREATED:20230219T033327Z
LAST-MODIFIED:20230219T033331Z
UID:10000004-1680307200-1680393599@sandiegosoccerwomen.com
SUMMARY:Sacramento Sports for Life 2023 8v8
DESCRIPTION:
URL:https://sandiegosoccerwomen.com/tournament/sacramento-sports-for-life-2023-8v8/
LOCATION:Sacramento\, CA
CATEGORIES:Tournaments
END:VEVENT
BEGIN:VEVENT
DTSTART;TZID=America/Los_Angeles:20221126T000000
DTEND;TZID=America/Los_Angeles:20221126T000000
DTSTAMP:20260423T145429
CREATED:20250130T005421Z
LAST-MODIFIED:20250620T201209Z
UID:10000384-1669420800-1669420800@sandiegosoccerwomen.com
SUMMARY:SVWSL Annual Indoor 2022
DESCRIPTION:
URL:https://sandiegosoccerwomen.com/tournament/svwsl-annual-indoor-2022/
LOCATION:Sacramento\, CA
END:VEVENT
BEGIN:VEVENT
DTSTART;TZID=America/Los_Angeles:20220521T000000
DTEND;TZID=America/Los_Angeles:20220522T000000
DTSTAMP:20260423T145429
CREATED:20250130T005332Z
LAST-MODIFIED:20250620T200609Z
UID:10000344-1653091200-1653177600@sandiegosoccerwomen.com
SUMMARY:Valley Cup SVWSL 2022 11v11
DESCRIPTION:
URL:https://sandiegosoccerwomen.com/tournament/valley-cup-svwsl-2022-11v11/
LOCATION:Sacramento\, CA
CATEGORIES:Tournament
END:VEVENT
BEGIN:VEVENT
DTSTART;TZID=America/Los_Angeles:20220521T000000
DTEND;TZID=America/Los_Angeles:20220522T000000
DTSTAMP:20260423T145429
CREATED:20250130T005331Z
LAST-MODIFIED:20250620T200609Z
UID:10000343-1653091200-1653177600@sandiegosoccerwomen.com
SUMMARY:Valley Cup SVWSL 2022 8v8
DESCRIPTION:
URL:https://sandiegosoccerwomen.com/tournament/valley-cup-svwsl-2022-8v8/
LOCATION:Sacramento\, CA
CATEGORIES:Tournament
END:VEVENT
BEGIN:VEVENT
DTSTART;TZID=America/Los_Angeles:20220423T000000
DTEND;TZID=America/Los_Angeles:20220424T000000
DTSTAMP:20260423T145429
CREATED:20250130T005325Z
LAST-MODIFIED:20250620T200454Z
UID:10000335-1650672000-1650758400@sandiegosoccerwomen.com
SUMMARY:Sacramento Sports for Life 2022 8v8
DESCRIPTION:
URL:https://sandiegosoccerwomen.com/tournament/sacramento-sports-for-life-2022-8v8/
LOCATION:Sacramento\, CA
CATEGORIES:Tournament
END:VEVENT
BEGIN:VEVENT
DTSTART;TZID=America/Los_Angeles:20220423T000000
DTEND;TZID=America/Los_Angeles:20220424T000000
DTSTAMP:20260423T145429
CREATED:20250130T005325Z
LAST-MODIFIED:20250620T200508Z
UID:10000336-1650672000-1650758400@sandiegosoccerwomen.com
SUMMARY:Sacramento Sports for Life 2022 11v11
DESCRIPTION:
URL:https://sandiegosoccerwomen.com/tournament/sacramento-sports-for-life-2022-11v11/
LOCATION:Sacramento\, CA
CATEGORIES:Tournament
END:VEVENT
END:VCALENDAR