BEGIN:VCALENDAR
VERSION:2.0
PRODID:-//Soccer for Women Ages 18 to 80+ - ECPv6.15.20//NONSGML v1.0//EN
CALSCALE:GREGORIAN
METHOD:PUBLISH
X-WR-CALNAME:Soccer for Women Ages 18 to 80+
X-ORIGINAL-URL:https://sandiegosoccerwomen.com
X-WR-CALDESC:Events for Soccer for Women Ages 18 to 80+
REFRESH-INTERVAL;VALUE=DURATION:PT1H
X-Robots-Tag:noindex
X-PUBLISHED-TTL:PT1H
BEGIN:VTIMEZONE
TZID:America/Los_Angeles
BEGIN:DAYLIGHT
TZOFFSETFROM:-0800
TZOFFSETTO:-0700
TZNAME:PDT
DTSTART:20220313T100000
END:DAYLIGHT
BEGIN:STANDARD
TZOFFSETFROM:-0700
TZOFFSETTO:-0800
TZNAME:PST
DTSTART:20221106T090000
END:STANDARD
BEGIN:DAYLIGHT
TZOFFSETFROM:-0800
TZOFFSETTO:-0700
TZNAME:PDT
DTSTART:20230312T100000
END:DAYLIGHT
BEGIN:STANDARD
TZOFFSETFROM:-0700
TZOFFSETTO:-0800
TZNAME:PST
DTSTART:20231105T090000
END:STANDARD
BEGIN:DAYLIGHT
TZOFFSETFROM:-0800
TZOFFSETTO:-0700
TZNAME:PDT
DTSTART:20240310T100000
END:DAYLIGHT
BEGIN:STANDARD
TZOFFSETFROM:-0700
TZOFFSETTO:-0800
TZNAME:PST
DTSTART:20241103T090000
END:STANDARD
END:VTIMEZONE
BEGIN:VEVENT
DTSTART;TZID=America/Los_Angeles:20230625T000000
DTEND;TZID=America/Los_Angeles:20230625T235959
DTSTAMP:20260424T052040
CREATED:20230219T033424Z
LAST-MODIFIED:20230219T033501Z
UID:10000043-1687651200-1687737599@sandiegosoccerwomen.com
SUMMARY:UK AFC Littleton Tournament 2023 Age 30+ Competitive
DESCRIPTION:
URL:https://sandiegosoccerwomen.com/tournament/uk-afc-littleton-tournament-2023-age-30-competitive/
LOCATION:LIttlehampton\, UK
CATEGORIES:Tournaments
END:VEVENT
BEGIN:VEVENT
DTSTART;TZID=America/Los_Angeles:20230625T000000
DTEND;TZID=America/Los_Angeles:20230625T000000
DTSTAMP:20260424T052040
CREATED:20250130T005502Z
LAST-MODIFIED:20250620T200708Z
UID:10000435-1687651200-1687651200@sandiegosoccerwomen.com
SUMMARY:UK AFC Littleton Tournament 2023
DESCRIPTION:
URL:https://sandiegosoccerwomen.com/tournament/uk-afc-littleton-tournament-2023/
LOCATION:LIttlehampton\, UK
CATEGORIES:Tournament
END:VEVENT
BEGIN:VEVENT
DTSTART;TZID=America/Los_Angeles:20230611T000000
DTEND;TZID=America/Los_Angeles:20230611T235959
DTSTAMP:20260424T052040
CREATED:20230219T033418Z
LAST-MODIFIED:20230219T033441Z
UID:10000038-1686441600-1686527999@sandiegosoccerwomen.com
SUMMARY:UK AFC Littleton Tournament 2023 Recreational
DESCRIPTION:
URL:https://sandiegosoccerwomen.com/tournament/uk-afc-littleton-tournament-2023-recreational/
LOCATION:LIttlehampton\, UK
CATEGORIES:Tournaments
END:VEVENT
END:VCALENDAR