BEGIN:VCALENDAR
VERSION:2.0
PRODID:-//Soccer for Women Ages 18 to 80+ - ECPv6.15.20//NONSGML v1.0//EN
CALSCALE:GREGORIAN
METHOD:PUBLISH
X-WR-CALNAME:Soccer for Women Ages 18 to 80+
X-ORIGINAL-URL:https://sandiegosoccerwomen.com
X-WR-CALDESC:Events for Soccer for Women Ages 18 to 80+
REFRESH-INTERVAL;VALUE=DURATION:PT1H
X-Robots-Tag:noindex
X-PUBLISHED-TTL:PT1H
BEGIN:VTIMEZONE
TZID:America/Los_Angeles
BEGIN:DAYLIGHT
TZOFFSETFROM:-0800
TZOFFSETTO:-0700
TZNAME:PDT
DTSTART:20210314T100000
END:DAYLIGHT
BEGIN:STANDARD
TZOFFSETFROM:-0700
TZOFFSETTO:-0800
TZNAME:PST
DTSTART:20211107T090000
END:STANDARD
BEGIN:DAYLIGHT
TZOFFSETFROM:-0800
TZOFFSETTO:-0700
TZNAME:PDT
DTSTART:20220313T100000
END:DAYLIGHT
BEGIN:STANDARD
TZOFFSETFROM:-0700
TZOFFSETTO:-0800
TZNAME:PST
DTSTART:20221106T090000
END:STANDARD
BEGIN:DAYLIGHT
TZOFFSETFROM:-0800
TZOFFSETTO:-0700
TZNAME:PDT
DTSTART:20230312T100000
END:DAYLIGHT
BEGIN:STANDARD
TZOFFSETFROM:-0700
TZOFFSETTO:-0800
TZNAME:PST
DTSTART:20231105T090000
END:STANDARD
BEGIN:DAYLIGHT
TZOFFSETFROM:-0800
TZOFFSETTO:-0700
TZNAME:PDT
DTSTART:20240310T100000
END:DAYLIGHT
BEGIN:STANDARD
TZOFFSETFROM:-0700
TZOFFSETTO:-0800
TZNAME:PST
DTSTART:20241103T090000
END:STANDARD
BEGIN:DAYLIGHT
TZOFFSETFROM:-0800
TZOFFSETTO:-0700
TZNAME:PDT
DTSTART:20250309T100000
END:DAYLIGHT
BEGIN:STANDARD
TZOFFSETFROM:-0700
TZOFFSETTO:-0800
TZNAME:PST
DTSTART:20251102T090000
END:STANDARD
END:VTIMEZONE
BEGIN:VEVENT
DTSTART;TZID=America/Los_Angeles:20241019T000000
DTEND;TZID=America/Los_Angeles:20241020T000000
DTSTAMP:20260425T082510
CREATED:20250130T005717Z
LAST-MODIFIED:20250620T201105Z
UID:10000602-1729296000-1729382400@sandiegosoccerwomen.com
SUMMARY:HWSA Oktoberfest 11v11 2024
DESCRIPTION:
URL:https://sandiegosoccerwomen.com/tournament/hwsa-oktoberfest-11v11-2024/
LOCATION:Houston\, TX
END:VEVENT
BEGIN:VEVENT
DTSTART;TZID=America/Los_Angeles:20231021T000000
DTEND;TZID=America/Los_Angeles:20231022T000000
DTSTAMP:20260425T082510
CREATED:20250130T005623Z
LAST-MODIFIED:20250620T201106Z
UID:10000542-1697846400-1697932800@sandiegosoccerwomen.com
SUMMARY:HWSA Oktoberfest 2023
DESCRIPTION:
URL:https://sandiegosoccerwomen.com/tournament/hwsa-oktoberfest-2023-2/
LOCATION:Houston\, TX
END:VEVENT
BEGIN:VEVENT
DTSTART;TZID=America/Los_Angeles:20231001T000000
DTEND;TZID=America/Los_Angeles:20231001T235959
DTSTAMP:20260425T082510
CREATED:20230219T033504Z
LAST-MODIFIED:20230219T033559Z
UID:10000073-1696118400-1696204799@sandiegosoccerwomen.com
SUMMARY:HWSA Oktoberfest 2023
DESCRIPTION:
URL:https://sandiegosoccerwomen.com/tournament/hwsa-oktoberfest-2023/
LOCATION:Houston\, TX
CATEGORIES:Tournaments
END:VEVENT
BEGIN:VEVENT
DTSTART;TZID=America/Los_Angeles:20221022T000000
DTEND;TZID=America/Los_Angeles:20221023T000000
DTSTAMP:20260425T082510
CREATED:20250130T005417Z
LAST-MODIFIED:20250620T201110Z
UID:10000380-1666396800-1666483200@sandiegosoccerwomen.com
SUMMARY:HWSA Oktoberfest 2022
DESCRIPTION:
URL:https://sandiegosoccerwomen.com/tournament/hwsa-oktoberfest-2022/
LOCATION:Houston\, TX
END:VEVENT
END:VCALENDAR