BEGIN:VCALENDAR
VERSION:2.0
PRODID:-//Soccer for Women Ages 18 to 80+ - ECPv6.15.20//NONSGML v1.0//EN
CALSCALE:GREGORIAN
METHOD:PUBLISH
X-ORIGINAL-URL:https://sandiegosoccerwomen.com
X-WR-CALDESC:Events for Soccer for Women Ages 18 to 80+
REFRESH-INTERVAL;VALUE=DURATION:PT1H
X-Robots-Tag:noindex
X-PUBLISHED-TTL:PT1H
BEGIN:VTIMEZONE
TZID:America/Los_Angeles
BEGIN:DAYLIGHT
TZOFFSETFROM:-0800
TZOFFSETTO:-0700
TZNAME:PDT
DTSTART:20220313T100000
END:DAYLIGHT
BEGIN:STANDARD
TZOFFSETFROM:-0700
TZOFFSETTO:-0800
TZNAME:PST
DTSTART:20221106T090000
END:STANDARD
BEGIN:DAYLIGHT
TZOFFSETFROM:-0800
TZOFFSETTO:-0700
TZNAME:PDT
DTSTART:20230312T100000
END:DAYLIGHT
BEGIN:STANDARD
TZOFFSETFROM:-0700
TZOFFSETTO:-0800
TZNAME:PST
DTSTART:20231105T090000
END:STANDARD
BEGIN:DAYLIGHT
TZOFFSETFROM:-0800
TZOFFSETTO:-0700
TZNAME:PDT
DTSTART:20240310T100000
END:DAYLIGHT
BEGIN:STANDARD
TZOFFSETFROM:-0700
TZOFFSETTO:-0800
TZNAME:PST
DTSTART:20241103T090000
END:STANDARD
END:VTIMEZONE
BEGIN:VEVENT
DTSTART;TZID=America/Los_Angeles:20230624T000000
DTEND;TZID=America/Los_Angeles:20230703T235959
DTSTAMP:20260419T165353
CREATED:20230219T033430Z
LAST-MODIFIED:20230219T033504Z
UID:10000048-1687564800-1688428799@sandiegosoccerwomen.com
SUMMARY:UK / Finland / Prague
DESCRIPTION:Share this:Tweet\n				Email a link to a friend (Opens in new window)\n				Email\n			\n				Print (Opens in new window)\n				Print\n			\n				Share on WhatsApp (Opens in new window)\n				WhatsApp\n			Like this:Like Loading...
URL:https://sandiegosoccerwomen.com/tournament/uk-finland-prague/
LOCATION:Ontario
CATEGORIES:Tournaments
END:VEVENT
BEGIN:VEVENT
DTSTART;TZID=America/Los_Angeles:20230627T000000
DTEND;TZID=America/Los_Angeles:20230701T235959
DTSTAMP:20260419T165353
CREATED:20230219T033429Z
LAST-MODIFIED:20230219T033504Z
UID:10000047-1687824000-1688255999@sandiegosoccerwomen.com
SUMMARY:World Masters Games European 2023 Professional and Recreational
DESCRIPTION:Share this:Tweet\n				Email a link to a friend (Opens in new window)\n				Email\n			\n				Print (Opens in new window)\n				Print\n			\n				Share on WhatsApp (Opens in new window)\n				WhatsApp\n			Like this:Like Loading...
URL:https://sandiegosoccerwomen.com/tournament/world-masters-games-european-2023-professional-and-recreational/
LOCATION:Tampere\, Finland
CATEGORIES:Tournaments
END:VEVENT
BEGIN:VEVENT
DTSTART;TZID=America/Los_Angeles:20230629T000000
DTEND;TZID=America/Los_Angeles:20230701T235959
DTSTAMP:20260419T165353
CREATED:20230219T033433Z
LAST-MODIFIED:20230219T033505Z
UID:10000049-1687996800-1688255999@sandiegosoccerwomen.com
SUMMARY:Prague's Barrel Football Tournament 2023
DESCRIPTION:Package includes everything: accommodation\, full board\, transfers to the pitch\, boy that makes sure your glass is never empty\, etc. Women’s cup is a 6+1 category. Each match lasts 2×20 minutes of netto time\, from 9a.m. till 3p.m.  \nPrague’s barrel 29th June – 2nd July 2023 \nThe women’s football amateur tournament takes place on modern and well-kept sport grounds in the residential part of Prague 4. During the first day you play qualifications\, followed by semifinals and finals. The minimum of played matches varies from the number of enrolled teams. Besides the sporty part of programme there remains plenty of time for sightseeing and fun in the city. \nShare this:Tweet\n				Email a link to a friend (Opens in new window)\n				Email\n			\n				Print (Opens in new window)\n				Print\n			\n				Share on WhatsApp (Opens in new window)\n				WhatsApp\n			Like this:Like Loading...
URL:https://sandiegosoccerwomen.com/tournament/pragues-barrel-football-tournament-2023/
LOCATION:Prague\, Czechia
CATEGORIES:Tournaments
END:VEVENT
BEGIN:VEVENT
DTSTART;TZID=America/Los_Angeles:20230701T000000
DTEND;TZID=America/Los_Angeles:20230701T235959
DTSTAMP:20260419T165353
CREATED:20230219T033426Z
LAST-MODIFIED:20230219T033501Z
UID:10000044-1688169600-1688255999@sandiegosoccerwomen.com
SUMMARY:Kick for a Cause 2023
DESCRIPTION:Share this:Tweet\n				Email a link to a friend (Opens in new window)\n				Email\n			\n				Print (Opens in new window)\n				Print\n			\n				Share on WhatsApp (Opens in new window)\n				WhatsApp\n			Like this:Like Loading...
URL:https://sandiegosoccerwomen.com/tournament/kick-for-a-cause-2023/
LOCATION:Wallingford\, CT
CATEGORIES:Tournaments
END:VEVENT
BEGIN:VEVENT
DTSTART;TZID=America/Los_Angeles:20230701T000000
DTEND;TZID=America/Los_Angeles:20230701T235959
DTSTAMP:20260419T165353
CREATED:20230219T033427Z
LAST-MODIFIED:20230219T033502Z
UID:10000045-1688169600-1688255999@sandiegosoccerwomen.com
SUMMARY:Points East 2023 11v11
DESCRIPTION:Share this:Tweet\n				Email a link to a friend (Opens in new window)\n				Email\n			\n				Print (Opens in new window)\n				Print\n			\n				Share on WhatsApp (Opens in new window)\n				WhatsApp\n			Like this:Like Loading...
URL:https://sandiegosoccerwomen.com/tournament/points-east-2023-11v11/
LOCATION:Central Islip\, Long Island\, NY
CATEGORIES:Tournaments
END:VEVENT
BEGIN:VEVENT
DTSTART;TZID=America/Los_Angeles:20230701T000000
DTEND;TZID=America/Los_Angeles:20230701T235959
DTSTAMP:20260419T165353
CREATED:20230219T033428Z
LAST-MODIFIED:20230219T033503Z
UID:10000046-1688169600-1688255999@sandiegosoccerwomen.com
SUMMARY:Points East 2023 8v8
DESCRIPTION:Share this:Tweet\n				Email a link to a friend (Opens in new window)\n				Email\n			\n				Print (Opens in new window)\n				Print\n			\n				Share on WhatsApp (Opens in new window)\n				WhatsApp\n			Like this:Like Loading...
URL:https://sandiegosoccerwomen.com/tournament/points-east-2023-8v8/
LOCATION:Central Islip\, Long Island\, NY
CATEGORIES:Tournaments
END:VEVENT
BEGIN:VEVENT
DTSTART;TZID=America/Los_Angeles:20230701T000000
DTEND;TZID=America/Los_Angeles:20230701T235959
DTSTAMP:20260419T165353
CREATED:20230219T033434Z
LAST-MODIFIED:20230219T033506Z
UID:10000050-1688169600-1688255999@sandiegosoccerwomen.com
SUMMARY:The People's Cup 2023
DESCRIPTION:Share this:Tweet\n				Email a link to a friend (Opens in new window)\n				Email\n			\n				Print (Opens in new window)\n				Print\n			\n				Share on WhatsApp (Opens in new window)\n				WhatsApp\n			Like this:Like Loading...
URL:https://sandiegosoccerwomen.com/tournament/the-peoples-cup-2023/
LOCATION:Loudon County\, VA
CATEGORIES:Tournaments
END:VEVENT
BEGIN:VEVENT
DTSTART;TZID=America/Los_Angeles:20230705T000000
DTEND;TZID=America/Los_Angeles:20230708T235959
DTSTAMP:20260419T165353
CREATED:20230219T033438Z
LAST-MODIFIED:20230219T033520Z
UID:10000053-1688515200-1688860799@sandiegosoccerwomen.com
SUMMARY:Soccer Academy Residential Camp 2023
DESCRIPTION:Share this:Tweet\n				Email a link to a friend (Opens in new window)\n				Email\n			\n				Print (Opens in new window)\n				Print\n			\n				Share on WhatsApp (Opens in new window)\n				WhatsApp\n			Like this:Like Loading...
URL:https://sandiegosoccerwomen.com/tournament/soccer-academy-residential-camp-2023/
LOCATION:Centreville\, VA
CATEGORIES:Tournaments
END:VEVENT
BEGIN:VEVENT
DTSTART;TZID=America/Los_Angeles:20230708T000000
DTEND;TZID=America/Los_Angeles:20230708T235959
DTSTAMP:20260419T165353
CREATED:20230219T033435Z
LAST-MODIFIED:20230219T033507Z
UID:10000051-1688774400-1688860799@sandiegosoccerwomen.com
SUMMARY:Guelph Games (Good Games) Canada Master's Championships 2023
DESCRIPTION:Share this:Tweet\n				Email a link to a friend (Opens in new window)\n				Email\n			\n				Print (Opens in new window)\n				Print\n			\n				Share on WhatsApp (Opens in new window)\n				WhatsApp\n			Like this:Like Loading...
URL:https://sandiegosoccerwomen.com/tournament/guelph-games-good-games-canada-masters-championships-2023/
LOCATION:Guelph\, Ontario\, Canada
CATEGORIES:Tournaments
END:VEVENT
BEGIN:VEVENT
DTSTART;TZID=America/Los_Angeles:20230708T000000
DTEND;TZID=America/Los_Angeles:20230708T235959
DTSTAMP:20260419T165353
CREATED:20230219T033437Z
LAST-MODIFIED:20230219T033507Z
UID:10000052-1688774400-1688860799@sandiegosoccerwomen.com
SUMMARY:Zama 53rd Invitational 2023
DESCRIPTION:Share this:Tweet\n				Email a link to a friend (Opens in new window)\n				Email\n			\n				Print (Opens in new window)\n				Print\n			\n				Share on WhatsApp (Opens in new window)\n				WhatsApp\n			Like this:Like Loading...
URL:https://sandiegosoccerwomen.com/tournament/zama-53rd-invitational-2023/
LOCATION:Irvine\, CA
CATEGORIES:Tournaments
END:VEVENT
BEGIN:VEVENT
DTSTART;TZID=America/Los_Angeles:20230712T000000
DTEND;TZID=America/Los_Angeles:20230715T235959
DTSTAMP:20260419T165353
CREATED:20230219T033439Z
LAST-MODIFIED:20230219T033521Z
UID:10000054-1689120000-1689465599@sandiegosoccerwomen.com
SUMMARY:SoccerFest USASA 2023 7v7 (Veterans Cup)
DESCRIPTION:Share this:Tweet\n				Email a link to a friend (Opens in new window)\n				Email\n			\n				Print (Opens in new window)\n				Print\n			\n				Share on WhatsApp (Opens in new window)\n				WhatsApp\n			Like this:Like Loading...
URL:https://sandiegosoccerwomen.com/tournament/soccerfest-usasa-2023-7v7-veterans-cup/
LOCATION:Greensboro\, NC
CATEGORIES:Tournaments
END:VEVENT
BEGIN:VEVENT
DTSTART;TZID=America/Los_Angeles:20230712T000000
DTEND;TZID=America/Los_Angeles:20230715T235959
DTSTAMP:20260419T165353
CREATED:20230219T033443Z
LAST-MODIFIED:20230219T033523Z
UID:10000056-1689120000-1689465599@sandiegosoccerwomen.com
SUMMARY:SoccerFest USASA 2023 11v11 (Veterans Cup)
DESCRIPTION:Share this:Tweet\n				Email a link to a friend (Opens in new window)\n				Email\n			\n				Print (Opens in new window)\n				Print\n			\n				Share on WhatsApp (Opens in new window)\n				WhatsApp\n			Like this:Like Loading...
URL:https://sandiegosoccerwomen.com/tournament/soccerfest-usasa-2023-11v11-veterans-cup/
LOCATION:Greensboro\, NC
CATEGORIES:Tournaments
END:VEVENT
BEGIN:VEVENT
DTSTART;TZID=America/Los_Angeles:20230713T000000
DTEND;TZID=America/Los_Angeles:20230715T235959
DTSTAMP:20260419T165353
CREATED:20230219T033442Z
LAST-MODIFIED:20230219T033522Z
UID:10000055-1689206400-1689465599@sandiegosoccerwomen.com
SUMMARY:National Senior Games 2023
DESCRIPTION:Share this:Tweet\n				Email a link to a friend (Opens in new window)\n				Email\n			\n				Print (Opens in new window)\n				Print\n			\n				Share on WhatsApp (Opens in new window)\n				WhatsApp\n			Like this:Like Loading...
URL:https://sandiegosoccerwomen.com/tournament/national-senior-games-2023/
LOCATION:Pittsburgh\, PA
CATEGORIES:Tournaments
END:VEVENT
BEGIN:VEVENT
DTSTART;TZID=America/Los_Angeles:20230729T000000
DTEND;TZID=America/Los_Angeles:20230729T235959
DTSTAMP:20260419T165353
CREATED:20230219T033444Z
LAST-MODIFIED:20230219T033524Z
UID:10000057-1690588800-1690675199@sandiegosoccerwomen.com
SUMMARY:Washington State Senior Games 2023 8v8
DESCRIPTION:Share this:Tweet\n				Email a link to a friend (Opens in new window)\n				Email\n			\n				Print (Opens in new window)\n				Print\n			\n				Share on WhatsApp (Opens in new window)\n				WhatsApp\n			Like this:Like Loading...
URL:https://sandiegosoccerwomen.com/tournament/washington-state-senior-games-2023-8v8/
LOCATION:Lacey\, WA
CATEGORIES:Tournaments
END:VEVENT
BEGIN:VEVENT
DTSTART;TZID=America/Los_Angeles:20230729T000000
DTEND;TZID=America/Los_Angeles:20230729T235959
DTSTAMP:20260419T165353
CREATED:20230219T033446Z
LAST-MODIFIED:20230219T033524Z
UID:10000058-1690588800-1690675199@sandiegosoccerwomen.com
SUMMARY:Washington State Senior Games 2023 8v8 Walking
DESCRIPTION:Share this:Tweet\n				Email a link to a friend (Opens in new window)\n				Email\n			\n				Print (Opens in new window)\n				Print\n			\n				Share on WhatsApp (Opens in new window)\n				WhatsApp\n			Like this:Like Loading...
URL:https://sandiegosoccerwomen.com/tournament/washington-state-senior-games-2023-8v8-walking/
LOCATION:Lacey\, WA
CATEGORIES:Tournaments
END:VEVENT
BEGIN:VEVENT
DTSTART;TZID=America/Los_Angeles:20230729T000000
DTEND;TZID=America/Los_Angeles:20230729T235959
DTSTAMP:20260419T165353
CREATED:20230219T033447Z
LAST-MODIFIED:20230219T033525Z
UID:10000059-1690588800-1690675199@sandiegosoccerwomen.com
SUMMARY:Washington State Senior Games 2023 11v11
DESCRIPTION:Share this:Tweet\n				Email a link to a friend (Opens in new window)\n				Email\n			\n				Print (Opens in new window)\n				Print\n			\n				Share on WhatsApp (Opens in new window)\n				WhatsApp\n			Like this:Like Loading...
URL:https://sandiegosoccerwomen.com/tournament/washington-state-senior-games-2023-11v11/
LOCATION:Lacey\, WA
CATEGORIES:Tournaments
END:VEVENT
BEGIN:VEVENT
DTSTART;TZID=America/Los_Angeles:20230729T000000
DTEND;TZID=America/Los_Angeles:20230730T000000
DTSTAMP:20260419T165353
CREATED:20231228T071714Z
LAST-MODIFIED:20231228T071714Z
UID:10000106-1690588800-1690675200@sandiegosoccerwomen.com
SUMMARY:Kick for a Cause
DESCRIPTION:Kick for a Cause 2023 \nShare this:Tweet\n				Email a link to a friend (Opens in new window)\n				Email\n			\n				Print (Opens in new window)\n				Print\n			\n				Share on WhatsApp (Opens in new window)\n				WhatsApp\n			Like this:Like Loading...
URL:https://sandiegosoccerwomen.com/tournament/kick-for-a-cause-2/
LOCATION:Wallingford\, Wallingford\, Connecticut\, United States
CATEGORIES:07 (Jul),40+,50+,8v8,Tournament
END:VEVENT
BEGIN:VEVENT
DTSTART;TZID=America/Los_Angeles:20230729T000000
DTEND;TZID=America/Los_Angeles:20230730T000000
DTSTAMP:20260419T165353
CREATED:20231228T071810Z
LAST-MODIFIED:20231228T071810Z
UID:10000115-1690588800-1690675200@sandiegosoccerwomen.com
SUMMARY:Washington State Senior Games
DESCRIPTION:Washington State Senior Games 2023 11v11 \nShare this:Tweet\n				Email a link to a friend (Opens in new window)\n				Email\n			\n				Print (Opens in new window)\n				Print\n			\n				Share on WhatsApp (Opens in new window)\n				WhatsApp\n			Like this:Like Loading...
URL:https://sandiegosoccerwomen.com/tournament/washington-state-senior-games-2/
LOCATION:Lacey\, Lacey\, Washington\, United States
CATEGORIES:07 (Jul),50+,8v9,Tournament,Walking
END:VEVENT
END:VCALENDAR